BEGIN:VCALENDAR
VERSION:2.0
PRODID:-//Italy-America Chamber Of Commerce West//Silkstart Technology 
 Inc.//
BEGIN:VEVENT
SUMMARY:Savor EU Event SF (Members of the Trade ONLY -  closed to 
 consumers)
DTSTART;VALUE=DATE:20260507
DTEND;VALUE=DATE:20260507
DTSTAMP;VALUE=DATE-TIME:20260406T195651
UID:69d4100351ea1f05cf5309c0
DESCRIPTION: Are you a local wine or food specialty buyer\, wholesaler\, 
 importer or distributor interested in expanding your selection? To see if 
 you qualify to apply to attend\, email us directly at info@iaccw.net. 
 Savor EU Event SF (Members of the Trade ONLY - closed to consumers) 
LOCATION:Verona 
PRIORITY:5
URL:https://www.iaccw.net:443/events/savor-eu-event-sf-members-of-the-
 trade-only-closed-to-consumers
END:VEVENT
END:VCALENDAR
